Workbook

Sheet wycena początkowa
E4: 0.05
C5: rok | D5: opłaty leasingowe | E5: współczynnik dyskonta 5% | F5: wartość bieżąca
C6: 1 | D6: 50000 | E6: =1 -> 1 | F6: =D6*E6 -> 50000
C7: 2 | D7: 50000 | E7: =1/(1+$E$4)^C6 -> 0.95238095 | F7: =D7*E7 -> 47619.048
C8: 3 | D8: 50000 | E8: =1/(1+$E$4)^C7 -> 0.90702948 | F8: =D8*E8 -> 45351.474
C9: 4 | D9: 50000 | E9: =1/(1+$E$4)^C8 -> 0.8638376 | F9: =D9*E9 -> 43191.88
C10: 5 | D10: 50000 | E10: =1/(1+$E$4)^C9 -> 0.82270247 | F10: =D10*E10 -> 41135.124
C11: 6 | D11: 50000 | E11: =1/(1+$E$4)^C10 -> 0.78352617 | F11: =D11*E11 -> 39176.308
C12: 7 | D12: 50000 | E12: =1/(1+$E$4)^C11 -> 0.7462154 | F12: =D12*E12 -> 37310.77
C13: 8 | D13: 50000 | E13: =1/(1+$E$4)^C12 -> 0.71068133 | F13: =D13*E13 -> 35534.067
C14: 9 | D14: 50000 | E14: =1/(1+$E$4)^C13 -> 0.67683936 | F14: =D14*E14 -> 33841.968
C15: 10 | D15: 50000 | E15: =1/(1+$E$4)^C14 -> 0.64460892 | F15: =D15*E15 -> 32230.446
C16: SUMA | D16: =SUM(D6:D15) -> 500000 | F16: =SUM(F6:F15) -> 405391.08

Sheet rozliczanie
A1: Zadanie 9 Efka 1
E3: 0.05
B4: Zobowiązanie z tytułu leasingu | H4: Aktywa z tytułu prawa użytkowania składnika aktywów
B5: Rok | C5: Saldo początkowe | D5: Opłaty leasingowe | E5: Koszty finansowe | F5: Saldo końcowe | H5: Saldo początkowe | I5: Amortyzacja | J5: Saldo końcowe
B6: 1 | C6: ='wycena początkowa'!F16-50000 -> 355391.08 | D6: 0 | E6: =(C6+D6)*$E$3 -> 17769.554 | F6: =C6+D6+E6 -> 373160.64 | H6: ='wycena początkowa'!F16+20000-5000 -> 420391.08 | I6: =$H$6/10 -> 42039.108 | J6: =H6-I6 -> 378351.98
B7: 2 | C7: =F6 -> 373160.64 | D7: =-'wycena początkowa'!D7 -> -50000 | E7: =(C7+D7)*$E$3 -> 16158.032 | F7: =C7+D7+E7 -> 339318.67 | H7: =J6 -> 378351.98 | I7: =$H$6/10 -> 42039.108 | J7: =H7-I7 -> 336312.87
B8: 3 | C8: =F7 -> 339318.67 | D8: =-'wycena początkowa'!D8 -> -50000 | E8: =(C8+D8)*$E$3 -> 14465.933 | F8: =C8+D8+E8 -> 303784.6 | H8: =J7 -> 336312.87 | I8: =$H$6/10 -> 42039.108 | J8: =H8-I8 -> 294273.76
B9: 4 | C9: =F8 -> 303784.6 | D9: =-'wycena początkowa'!D9 -> -50000 | E9: =(C9+D9)*$E$3 -> 12689.23 | F9: =C9+D9+E9 -> 266473.83 | H9: =J8 -> 294273.76 | I9: =$H$6/10 -> 42039.108 | J9: =H9-I9 -> 252234.65
B10: 5 | C10: =F9 -> 266473.83 | D10: =-'wycena początkowa'!D10 -> -50000 | E10: =(C10+D10)*$E$3 -> 10823.692 | F10: =C10+D10+E10 -> 227297.53 | H10: =J9 -> 252234.65 | I10: =$H$6/10 -> 42039.108 | J10: =H10-I10 -> 210195.54
B11: 6 | C11: =F10 -> 227297.53 | D11: =-'wycena początkowa'!D11 -> -50000 | E11: =(C11+D11)*$E$3 -> 8864.8763 | F11: =C11+D11+E11 -> 186162.4 | H11: =J10 -> 210195.54 | I11: =$H$6/10 -> 42039.108 | J11: =H11-I11 -> 168156.43
B12: 7 | C12: =F11 -> 186162.4 | D12: =-'wycena początkowa'!D12 -> -50000 | E12: =(C12+D12)*$E$3 -> 6808.1201 | F12: =C12+D12+E12 -> 142970.52 | H12: =J11 -> 168156.43 | I12: =$H$6/10 -> 42039.108 | J12: =H12-I12 -> 126117.33
B13: 8 | C13: =F12 -> 142970.52 | D13: =-'wycena początkowa'!D13 -> -50000 | E13: =(C13+D13)*$E$3 -> 4648.5261 | F13: =C13+D13+E13 -> 97619.048 | H13: =J12 -> 126117.33 | I13: =$H$6/10 -> 42039.108 | J13: =H13-I13 -> 84078.217
B14: 9 | C14: =F13 -> 97619.048 | D14: =-'wycena początkowa'!D14 -> -50000 | E14: =(C14+D14)*$E$3 -> 2380.9524 | F14: =C14+D14+E14 -> 50000 | H14: =J13 -> 84078.217 | I14: =$H$6/10 -> 42039.108 | J14: =H14-I14 -> 42039.108
B15: 10 | C15: =F14 -> 50000 | D15: =-'wycena początkowa'!D15 -> -50000 | E15: =(C15+D15)*$E$3 -> 2.1827873e-12 | F15: =C15+D15+E15 -> 4.5838533e-11 | H15: =J14 -> 42039.108 | I15: =$H$6/10 -> 42039.108 | J15: =H15-I15 -> 0

Sheet aktualizacja
A1: Zadanie 10 Efka 2
I2: 0.06
C3: 0.06 | I3: 0.05
A4: rok | B4: opłaty leasingowe | C4: współczynnik dyskonta | D4: wartość bieżąca | F4: Zobowiązanie z tytułu leasingu | M4: Aktywa z tytułu prawa użytkowania składnika aktywów
A5: 7 | B5: 50000 | C5: =1 -> 1 | D5: =B5*C5 -> 50000 | F5: Rok | G5: Saldo początkowe | H5: Opłaty leasingowe | I5: Koszty finansowe | J5: Korekta | K5: Saldo końcowe | M5: Saldo początkowe | N5: Amortyzacja | O5: Korekta | P5: Saldo końcowe
A6: 8 | B6: 50000 | C6: =1/(1+$C$3)^(A5-6) -> 0.94339623 | D6: =B6*C6 -> 47169.811 | F6: 1 | G6: ='wycena początkowa'!F16-50000 -> 355391.08 | H6: 0 | I6: =(G6+H6)*$I$3 -> 17769.554 | K6: =G6+H6+I6 -> 373160.64 | M6: ='wycena początkowa'!F16+20000-5000 -> 420391.08 | N6: =$M$6/10 -> 42039.108 | P6: =M6-N6 -> 378351.98
A7: 9 | B7: 50000 | C7: =1/(1+$C$3)^(A6-6) -> 0.88999644 | D7: =B7*C7 -> 44499.822 | F7: 2 | G7: =K6 -> 373160.64 | H7: =-'wycena początkowa'!D7 -> -50000 | I7: =(G7+H7)*$I$3 -> 16158.032 | K7: =G7+H7+I7 -> 339318.67 | M7: =P6 -> 378351.98 | N7: =$M$6/10 -> 42039.108 | P7: =M7-N7 -> 336312.87
A8: 10 | B8: 50000 | C8: =1/(1+$C$3)^(A7-6) -> 0.83961928 | D8: =B8*C8 -> 41980.964 | F8: 3 | G8: =K7 -> 339318.67 | H8: =-'wycena początkowa'!D8 -> -50000 | I8: =(G8+H8)*$I$3 -> 14465.933 | K8: =G8+H8+I8 -> 303784.6 | M8: =P7 -> 336312.87 | N8: =$M$6/10 -> 42039.108 | P8: =M8-N8 -> 294273.76
A9: 11 | B9: 55000 | C9: =1/(1+$C$3)^(A8-6) -> 0.79209366 | D9: =B9*C9 -> 43565.151 | F9: 4 | G9: =K8 -> 303784.6 | H9: =-'wycena początkowa'!D9 -> -50000 | I9: =(G9+H9)*$I$3 -> 12689.23 | K9: =G9+H9+I9 -> 266473.83 | M9: =P8 -> 294273.76 | N9: =$M$6/10 -> 42039.108 | P9: =M9-N9 -> 252234.65
A10: 12 | B10: 55000 | C10: =1/(1+$C$3)^(A9-6) -> 0.74725817 | D10: =B10*C10 -> 41099.2 | F10: 5 | G10: =K9 -> 266473.83 | H10: =-'wycena początkowa'!D10 -> -50000 | I10: =(G10+H10)*$I$3 -> 10823.692 | K10: =G10+H10+I10 -> 227297.53 | M10: =P9 -> 252234.65 | N10: =$M$6/10 -> 42039.108 | P10: =M10-N10 -> 210195.54
A11: 13 | B11: 55000 | C11: =1/(1+$C$3)^(A10-6) -> 0.70496054 | D11: =B11*C11 -> 38772.83 | F11: 6 | G11: =K10 -> 227297.53 | H11: =-'wycena początkowa'!D11 -> -50000 | I11: =(G11+H11)*$I$3 -> 8864.8763 | J11: =D15 -> 192011.2 | K11: =G11+H11+I11+J11 -> 378173.6 | M11: =P10 -> 210195.54 | N11: =$M$6/10 -> 42039.108 | O11: =J11 -> 192011.2 | P11: =M11-N11+O11 -> 360167.63
A12: 14 | B12: 55000 | C12: =1/(1+$C$3)^(A11-6) -> 0.66505711 | D12: =B12*C12 -> 36578.141 | F12: 7 | G12: =K11 -> 378173.6 | H12: =-B5 -> -50000 | I12: =(G12+H12)*$I$2 -> 19690.416 | K12: =G12+H12+I12+J12 -> 347864.02 | M12: =P11 -> 360167.63 | N12: =$M$12/9 -> 40018.626 | P12: =M12-N12+O12 -> 320149.01
A13: 15 | B13: 55000 | C13: =1/(1+$C$3)^(A12-6) -> 0.62741237 | D13: =B13*C13 -> 34507.68 | F13: 8 | G13: =K12 -> 347864.02 | H13: =-B6 -> -50000 | I13: =(G13+H13)*$I$2 -> 17871.841 | K13: =G13+H13+I13+J13 -> 315735.86 | M13: =P12 -> 320149.01 | N13: =$M$12/9 -> 40018.626 | P13: =M13-N13+O13 -> 280130.38
D14: =SUM(D5:D13) -> 378173.6 | F14: 9 | G14: =K13 -> 315735.86 | H14: =-B7 -> -50000 | I14: =(G14+H14)*$I$2 -> 15944.151 | K14: =G14+H14+I14+J14 -> 281680.01 | M14: =P13 -> 280130.38 | N14: =$M$12/9 -> 40018.626 | P14: =M14-N14+O14 -> 240111.75
D15: =D14-rozliczanie!F11 -> 192011.2 | F15: 10 | G15: =K14 -> 281680.01 | H15: =-B8 -> -50000 | I15: =(G15+H15)*$I$2 -> 13900.8 | K15: =G15+H15+I15+J15 -> 245580.81 | M15: =P14 -> 240111.75 | N15: =$M$12/9 -> 40018.626 | P15: =M15-N15+O15 -> 200093.13
F16: 11 | G16: =K15 -> 245580.81 | H16: =-B9 -> -55000 | I16: =(G16+H16)*$I$2 -> 11434.849 | K16: =G16+H16+I16+J16 -> 202015.66 | M16: =P15 -> 200093.13 | N16: =$M$12/9 -> 40018.626 | P16: =M16-N16+O16 -> 160074.5
F17: 12 | G17: =K16 -> 202015.66 | H17: =-B10 -> -55000 | I17: =(G17+H17)*$I$2 -> 8820.9394 | K17: =G17+H17+I17+J17 -> 155836.6 | M17: =P16 -> 160074.5 | N17: =$M$12/9 -> 40018.626 | P17: =M17-N17+O17 -> 120055.88
F18: 13 | G18: =K17 -> 155836.6 | H18: =-B11 -> -55000 | I18: =(G18+H18)*$I$2 -> 6050.1958 | K18: =G18+H18+I18+J18 -> 106886.79 | M18: =P17 -> 120055.88 | N18: =$M$12/9 -> 40018.626 | P18: =M18-N18+O18 -> 80037.252
F19: 14 | G19: =K18 -> 106886.79 | H19: =-B12 -> -55000 | I19: =(G19+H19)*$I$2 -> 3113.2075 | K19: =G19+H19+I19+J19 -> 55000 | M19: =P18 -> 80037.252 | N19: =$M$12/9 -> 40018.626 | P19: =M19-N19+O19 -> 40018.626
F20: 15 | G20: =K19 -> 55000 | H20: =-B13 -> -55000 | I20: =(G20+H20)*$I$2 -> -6.1118044e-12 | K20: =G20+H20+I20+J20 -> -1.0797521e-10 | M20: =P19 -> 40018.626 | N20: =$M$12/9 -> 40018.626 | P20: =M20-N20+O20 -> -1.4551915e-11

Sheet zmiana
B2: PIERWOTNIE | G2: ERRATA
D3: 0.06 | I3: 0.06
B4: rok | C4: opłaty leasingowe | D4: współczynnik dyskonta 6% | E4: wartość bieżąca | G4: rok | H4: opłaty leasingowe | I4: współczynnik dyskonta 6% | J4: wartość bieżąca
B5: 1 | C5: 15000 | D5: =1 -> 1 | E5: =C5*D5 -> 15000 | G5: 1 | H5: 15000 | I5: =1 -> 1 | J5: =H5*I5 -> 15000
B6: 2 | C6: 15000 | D6: =1/(1+$D$3)^B5 -> 0.94339623 | E6: =C6*D6 -> 14150.943 | G6: 2 | H6: 15000 | I6: =1/(1+$I$3)^G5 -> 0.94339623 | J6: =H6*I6 -> 14150.943
B7: 3 | C7: 15000 | D7: =1/(1+$D$3)^B6 -> 0.88999644 | E7: =C7*D7 -> 13349.947 | G7: 3 | H7: 15000 | I7: =1/(1+$I$3)^G6 -> 0.88999644 | J7: =H7*I7 -> 13349.947
B8: SUMA | C8: =SUM(C5:C7) -> 45000 | E8: =SUM(E5:E7) -> 42500.89 | G8: 4 | H8: 15000 | I8: =1/(1+$I$3)^G7 -> 0.83961928 | J8: =H8*I8 -> 12594.289
G9: SUMA | H9: =SUM(H5:H8) -> 60000 | J9: =SUM(J5:J8) -> 55095.179
