Workbook

Sheet wycena początkowa
D3: 0.06
B4: rok | C4: opłaty leasingowe | D4: współ. dyskonta 6% | E4: wartość bieżąca
B5: 1 | C5: 100000 | D5: =1/(1+$D$3)^B5 -> 0.94339623 | E5: =C5*D5 -> 94339.623
B6: 2 | C6: 100000 | D6: =1/(1+$D$3)^B6 -> 0.88999644 | E6: =C6*D6 -> 88999.644
B7: 3 | C7: 100000 | D7: =1/(1+$D$3)^B7 -> 0.83961928 | E7: =C7*D7 -> 83961.928
B8: 4 | C8: 100000 | D8: =1/(1+$D$3)^B8 -> 0.79209366 | E8: =C8*D8 -> 79209.366
B9: 5 | C9: 100000 | D9: =1/(1+$D$3)^B9 -> 0.74725817 | E9: =C9*D9 -> 74725.817
B10: 6 | C10: 100000 | D10: =1/(1+$D$3)^B10 -> 0.70496054 | E10: =C10*D10 -> 70496.054
B11: 7 | C11: 100000 | D11: =1/(1+$D$3)^B11 -> 0.66505711 | E11: =C11*D11 -> 66505.711
B12: 8 | C12: 100000 | D12: =1/(1+$D$3)^B12 -> 0.62741237 | E12: =C12*D12 -> 62741.237
B13: 9 | C13: 100000 | D13: =1/(1+$D$3)^B13 -> 0.59189846 | E13: =C13*D13 -> 59189.846
B14: 10 | C14: 100000 | D14: =1/(1+$D$3)^B14 -> 0.55839478 | E14: =C14*D14 -> 55839.478
B15: SUMA | C15: =SUM(C5:C14) -> 1000000 | E15: =SUM(E5:E14) -> 736008.71

Sheet rozliczenie 6 lat
D3: 0.06
B4: Zobowiązanie z tytułu leasingu | H4: Aktywa z tytułu prawa użytkowania
B5: Rok | C5: Saldo początkowe | D5: Koszty finansowe | E5: Opłaty leasingowe | F5: Saldo końcowe | H5: Saldo początkowe | I5: Amortyzacja | J5: Saldo końcowe
B6: 1 | C6: ='wycena początkowa'!E15 -> 736008.71 | D6: =C6*$D$3 -> 44160.522 | E6: =-'wycena początkowa'!C5 -> -100000 | F6: =C6+D6+E6 -> 680169.23 | H6: ='wycena początkowa'!E15 -> 736008.71 | I6: =$H$6/10 -> 73600.871 | J6: =H6-I6 -> 662407.83
B7: 2 | C7: =F6 -> 680169.23 | D7: =C7*$D$3 -> 40810.154 | E7: =-'wycena początkowa'!C6 -> -100000 | F7: =C7+D7+E7 -> 620979.38 | H7: =J6 -> 662407.83 | I7: =$H$6/10 -> 73600.871 | J7: =H7-I7 -> 588806.96
B8: 3 | C8: =F7 -> 620979.38 | D8: =C8*$D$3 -> 37258.763 | E8: =-'wycena początkowa'!C7 -> -100000 | F8: =C8+D8+E8 -> 558238.14 | H8: =J7 -> 588806.96 | I8: =$H$6/10 -> 73600.871 | J8: =H8-I8 -> 515206.09
B9: 4 | C9: =F8 -> 558238.14 | D9: =C9*$D$3 -> 33494.289 | E9: =-'wycena początkowa'!C8 -> -100000 | F9: =C9+D9+E9 -> 491732.43 | H9: =J8 -> 515206.09 | I9: =$H$6/10 -> 73600.871 | J9: =H9-I9 -> 441605.22
B10: 5 | C10: =F9 -> 491732.43 | D10: =C10*$D$3 -> 29503.946 | E10: =-'wycena początkowa'!C9 -> -100000 | F10: =C10+D10+E10 -> 421236.38 | H10: =J9 -> 441605.22 | I10: =$H$6/10 -> 73600.871 | J10: =H10-I10 -> 368004.35
B11: 6 | C11: =F10 -> 421236.38 | D11: =C11*$D$3 -> 25274.183 | E11: =-'wycena początkowa'!C10 -> -100000 | F11: =C11+D11+E11 -> 346510.56 | H11: =J10 -> 368004.35 | I11: =$H$6/10 -> 73600.871 | J11: =H11-I11 -> 294403.48
B12: 7 | C12: =F11 -> 346510.56 | D12: =C12*$D$3 -> 20790.634 | E12: =-'wycena początkowa'!C11 -> -100000 | F12: =C12+D12+E12 -> 267301.19 | H12: =J11 -> 294403.48 | I12: =$H$6/10 -> 73600.871 | J12: =H12-I12 -> 220802.61
B13: 8 | C13: =F12 -> 267301.19 | D13: =C13*$D$3 -> 16038.072 | E13: =-'wycena początkowa'!C12 -> -100000 | F13: =C13+D13+E13 -> 183339.27 | H13: =J12 -> 220802.61 | I13: =$H$6/10 -> 73600.871 | J13: =H13-I13 -> 147201.74
B14: 9 | C14: =F13 -> 183339.27 | D14: =C14*$D$3 -> 11000.356 | E14: =-'wycena początkowa'!C13 -> -100000 | F14: =C14+D14+E14 -> 94339.623 | H14: =J13 -> 147201.74 | I14: =$H$6/10 -> 73600.871 | J14: =H14-I14 -> 73600.871
B15: 10 | C15: =F14 -> 94339.623 | D15: =C15*$D$3 -> 5660.3774 | E15: =-'wycena początkowa'!C14 -> -100000 | F15: =C15+D15+E15 -> -6.5483619e-10 | H15: =J14 -> 73600.871 | I15: =$H$6/10 -> 73600.871 | J15: =H15-I15 -> 0

Sheet zmiana_wycena
D3: 0.07
B4: rok | C4: opłaty leasingowe | D4: współczynnik dyskonta 7% | E4: wartość bieżąca
A5: 1 | B5: 7 | C5: 100000 | D5: =1/(1+$D$3)^(B5-6) -> 0.93457944 | E5: =C5*D5 -> 93457.944
A6: 2 | B6: 8 | C6: 100000 | D6: =1/(1+$D$3)^(B6-6) -> 0.87343873 | E6: =C6*D6 -> 87343.873
A7: 3 | B7: 9 | C7: 100000 | D7: =1/(1+$D$3)^(B7-6) -> 0.81629788 | E7: =C7*D7 -> 81629.788
A8: 4 | B8: 10 | C8: 100000 | D8: =1/(1+$D$3)^(B8-6) -> 0.76289521 | E8: =C8*D8 -> 76289.521
A9: 5 | B9: 11 | C9: 100000 | D9: =1/(1+$D$3)^(B9-6) -> 0.71298618 | E9: =C9*D9 -> 71298.618
A10: 6 | B10: 12 | C10: 100000 | D10: =1/(1+$D$3)^(B10-6) -> 0.66634222 | E10: =C10*D10 -> 66634.222
A11: 7 | B11: 13 | C11: 100000 | D11: =1/(1+$D$3)^(B11-6) -> 0.62274974 | E11: =C11*D11 -> 62274.974
A12: 8 | B12: 14 | C12: 100000 | D12: =1/(1+$D$3)^(B12-6) -> 0.5820091 | E12: =C12*D12 -> 58200.91
B13: SUMA | C13: =SUM(C5:C12) -> 800000 | E13: =SUM(E5:E12) -> 597129.85
E14: =E13-'rozliczenie 6 lat'!F11 -> 250619.29

Sheet rozliczenie po zmianie
D2: 0.07
D3: 0.06
B4: Zobowiązanie z tytułu leasingu | H4: Aktywa z tytułu prawa użytkowania
B5: Rok | C5: Saldo początkowe | D5: Koszty finansowe | E5: Opłaty leasingowe | F5: Saldo końcowe | H5: Saldo początkowe | I5: Amortyzacja | J5: Saldo końcowe
B6: 1 | C6: ='wycena początkowa'!E15 -> 736008.71 | D6: =C6*$D$3 -> 44160.522 | E6: =-'wycena początkowa'!C5 -> -100000 | F6: =C6+D6+E6 -> 680169.23 | H6: ='wycena początkowa'!E15 -> 736008.71 | I6: =$H$6/10 -> 73600.871 | J6: =H6-I6 -> 662407.83
B7: 2 | C7: =F6 -> 680169.23 | D7: =C7*$D$3 -> 40810.154 | E7: =-'wycena początkowa'!C6 -> -100000 | F7: =C7+D7+E7 -> 620979.38 | H7: =J6 -> 662407.83 | I7: =$H$6/10 -> 73600.871 | J7: =H7-I7 -> 588806.96
B8: 3 | C8: =F7 -> 620979.38 | D8: =C8*$D$3 -> 37258.763 | E8: =-'wycena początkowa'!C7 -> -100000 | F8: =C8+D8+E8 -> 558238.14 | H8: =J7 -> 588806.96 | I8: =$H$6/10 -> 73600.871 | J8: =H8-I8 -> 515206.09
B9: 4 | C9: =F8 -> 558238.14 | D9: =C9*$D$3 -> 33494.289 | E9: =-'wycena początkowa'!C8 -> -100000 | F9: =C9+D9+E9 -> 491732.43 | H9: =J8 -> 515206.09 | I9: =$H$6/10 -> 73600.871 | J9: =H9-I9 -> 441605.22
B10: 5 | C10: =F9 -> 491732.43 | D10: =C10*$D$3 -> 29503.946 | E10: =-'wycena początkowa'!C9 -> -100000 | F10: =C10+D10+E10 -> 421236.38 | H10: =J9 -> 441605.22 | I10: =$H$6/10 -> 73600.871 | J10: =H10-I10 -> 368004.35
B11: 6 | C11: =F10 -> 421236.38 | D11: =C11*$D$3 -> 25274.183 | E11: =-'wycena początkowa'!C10 -> -100000 | F11: =C11+D11+E11 -> 346510.56 | H11: =J10 -> 368004.35 | I11: =$H$6/10 -> 73600.871 | J11: =H11-I11 -> 294403.48
B12: 7 | C12: =F11+zmiana_wycena!E14 -> 597129.85 | D12: =C12*$D$2 -> 41799.09 | E12: =-zmiana_wycena!C5 -> -100000 | F12: =C12+D12+E12 -> 538928.94 | H12: =J11+zmiana_wycena!E14 -> 545022.77 | I12: =$H$12/8 -> 68127.846 | J12: =H12-I12 -> 476894.92
B13: 8 | C13: =F12 -> 538928.94 | D13: =C13*$D$2 -> 37725.026 | E13: =-zmiana_wycena!C6 -> -100000 | F13: =C13+D13+E13 -> 476653.97 | H13: =J12 -> 476894.92 | I13: =$H$12/8 -> 68127.846 | J13: =H13-I13 -> 408767.08
B14: 9 | C14: =F13 -> 476653.97 | D14: =C14*$D$2 -> 33365.778 | E14: =-zmiana_wycena!C7 -> -100000 | F14: =C14+D14+E14 -> 410019.74 | H14: =J13 -> 408767.08 | I14: =$H$12/8 -> 68127.846 | J14: =H14-I14 -> 340639.23
B15: 10 | C15: =F14 -> 410019.74 | D15: =C15*$D$2 -> 28701.382 | E15: =-zmiana_wycena!C8 -> -100000 | F15: =C15+D15+E15 -> 338721.13 | H15: =J14 -> 340639.23 | I15: =$H$12/8 -> 68127.846 | J15: =H15-I15 -> 272511.39
B16: 11 | C16: =F15 -> 338721.13 | D16: =C16*$D$2 -> 23710.479 | E16: =-zmiana_wycena!C9 -> -100000 | F16: =C16+D16+E16 -> 262431.6 | H16: =J15 -> 272511.39 | I16: =$H$12/8 -> 68127.846 | J16: =H16-I16 -> 204383.54
B17: 12 | C17: =F16 -> 262431.6 | D17: =C17*$D$2 -> 18370.212 | E17: =-zmiana_wycena!C10 -> -100000 | F17: =C17+D17+E17 -> 180801.82 | H17: =J16 -> 204383.54 | I17: =$H$12/8 -> 68127.846 | J17: =H17-I17 -> 136255.69
B18: 13 | C18: =F17 -> 180801.82 | D18: =C18*$D$2 -> 12656.127 | E18: =-zmiana_wycena!C11 -> -100000 | F18: =C18+D18+E18 -> 93457.944 | H18: =J17 -> 136255.69 | I18: =$H$12/8 -> 68127.846 | J18: =H18-I18 -> 68127.846
B19: 14 | C19: =F18 -> 93457.944 | D19: =C19*$D$2 -> 6542.0561 | E19: =-zmiana_wycena!C12 -> -100000 | F19: =C19+D19+E19 -> -2.1827873e-10 | H19: =J18 -> 68127.846 | I19: =$H$12/8 -> 68127.846 | J19: =H19-I19 -> -1.1641532e-10
